BEGIN:VCALENDAR
VERSION:2.0
PRODID:-//fishsonoma.org//NONSGML kigkonsult.se iCalcreator 2.30.10//
CALSCALE:GREGORIAN
METHOD:PUBLISH
UID:ff930044-73ec-4feb-91fc-c2e3ad323d6e
X-WR-CALDESC:Call 707-996-8422 between 9:30 - 11 a.m. for same day food pic
 k-up between 11:30 - 12:30 p.m. Come once a month.
X-WR-RELCALID:2f0ce12d7bc3e8465f3983f9102eba45
X-WR-TIMEZONE:America/Los_Angeles
BEGIN:VTIMEZONE
TZID:America/Los_Angeles
BEGIN:STANDARD
TZNAME:PST
DTSTART:20291104T020000
TZOFFSETFROM:-0700
TZOFFSETTO:-0800
RDATE:20301103T020000
END:STANDARD
BEGIN:DAYLIGHT
TZNAME:PDT
DTSTART:20300310T020000
TZOFFSETFROM:-0800
TZOFFSETTO:-0700
RDATE:20310309T020000
END:DAYLIGHT
END:VTIMEZONE
BEGIN:VEVENT
UID:237010ff-8f95-45ce-957b-78c2ad980889
DTSTAMP:20260426T041624Z
DESCRIPTION:Call 707-996-8422 between 9:30 - 11 a.m. for same day food pick
 -up between 11:30 - 12:30 p.m. Come once a month.
DTSTART;TZID=America/Los_Angeles:20300327T113000
DTEND;TZID=America/Los_Angeles:20300327T123000
LOCATION:601 W. Agua Caliente Rd\, Sonoma\, CA 95476 US
SUMMARY:St. Leo's Food Pantry
END:VEVENT
END:VCALENDAR
