BEGIN:VCALENDAR
VERSION:2.0
PRODID:-//fishsonoma.org//NONSGML kigkonsult.se iCalcreator 2.30.10//
CALSCALE:GREGORIAN
METHOD:PUBLISH
UID:6fc8bb0c-76cc-4c36-bb5a-b10b0af2efae
X-WR-CALDESC:Call 707-996-8422 between 9:30 - 11 a.m. for same day food pic
 k-up between 11:30 - 12:30 p.m. Come once a month.
X-WR-RELCALID:7ec0bd089a436b40f01a50f4af806408
X-WR-TIMEZONE:America/Los_Angeles
BEGIN:VTIMEZONE
TZID:America/Los_Angeles
BEGIN:STANDARD
TZNAME:PST
DTSTART:20291104T020000
TZOFFSETFROM:-0700
TZOFFSETTO:-0800
RDATE:20301103T020000
END:STANDARD
BEGIN:DAYLIGHT
TZNAME:PDT
DTSTART:20300310T020000
TZOFFSETFROM:-0800
TZOFFSETTO:-0700
RDATE:20310309T020000
END:DAYLIGHT
END:VTIMEZONE
BEGIN:VEVENT
UID:620471a2-0389-4ff2-a591-c54b93a304ae
DTSTAMP:20260426T041322Z
DESCRIPTION:Call 707-996-8422 between 9:30 - 11 a.m. for same day food pick
 -up between 11:30 - 12:30 p.m. Come once a month.
DTSTART;TZID=America/Los_Angeles:20300313T113000
DTEND;TZID=America/Los_Angeles:20300313T123000
LOCATION:601 W. Agua Caliente Rd\, Sonoma\, CA 95476 US
SUMMARY:St. Leo's Food Pantry
END:VEVENT
END:VCALENDAR
