BEGIN:VCALENDAR
VERSION:2.0
PRODID:-//fishsonoma.org//NONSGML kigkonsult.se iCalcreator 2.30.10//
CALSCALE:GREGORIAN
METHOD:PUBLISH
UID:cf4c13a4-d01f-42cc-9d08-9b5870c38a69
X-WR-CALDESC:Redwood Empire Food Bank distribution at Sonoma Valley Communi
 ty Health Center
X-WR-RELCALID:1626f4bf95b392dde065eb3e7382b5b3
X-WR-TIMEZONE:America/Los_Angeles
BEGIN:VTIMEZONE
TZID:America/Los_Angeles
BEGIN:STANDARD
TZNAME:PST
DTSTART:20291104T020000
TZOFFSETFROM:-0700
TZOFFSETTO:-0800
RDATE:20301103T020000
END:STANDARD
BEGIN:DAYLIGHT
TZNAME:PDT
DTSTART:20290311T020000
TZOFFSETFROM:-0800
TZOFFSETTO:-0700
RDATE:20300310T020000
RDATE:20310309T020000
END:DAYLIGHT
END:VTIMEZONE
BEGIN:VEVENT
UID:53c4204f-0410-4ebf-88cc-e533b78f69ae
DTSTAMP:20260426T024234Z
DESCRIPTION:Redwood Empire Food Bank distribution at Sonoma Valley Communit
 y Health Center
DTSTART;TZID=America/Los_Angeles:20300215T083000
DTEND;TZID=America/Los_Angeles:20300215T093000
LOCATION:19270 Sonoma Highway\, Sonoma\, CA 95476 US
SUMMARY:REFB at Health Center
END:VEVENT
END:VCALENDAR
