BEGIN:VCALENDAR
VERSION:2.0
PRODID:-//fishsonoma.org//NONSGML kigkonsult.se iCalcreator 2.30.10//
CALSCALE:GREGORIAN
METHOD:PUBLISH
UID:485fbfce-3eb2-48e7-a8fa-f5e2d270e05c
X-WR-CALDESC:3 days of groceries available weekdays from 1 p.m. - 2:30 p.m.
   You don't need to sign up in advance\, but the schedule is subject to ch
 ange\; you can check by calling the office at (707) 935-7314.
X-WR-RELCALID:08884c4c0b3997a299ddf31a49450d6a
X-WR-TIMEZONE:America/Los_Angeles
BEGIN:VTIMEZONE
TZID:America/Los_Angeles
BEGIN:STANDARD
TZNAME:PST
DTSTART:20291104T020000
TZOFFSETFROM:-0700
TZOFFSETTO:-0800
RDATE:20301103T020000
END:STANDARD
BEGIN:DAYLIGHT
TZNAME:PDT
DTSTART:20290311T020000
TZOFFSETFROM:-0800
TZOFFSETTO:-0700
RDATE:20300310T020000
RDATE:20310309T020000
END:DAYLIGHT
END:VTIMEZONE
BEGIN:VEVENT
UID:992647bc-c079-49bc-bf03-dc3eda2fc1f2
DTSTAMP:20260426T012305Z
DESCRIPTION:3 days of groceries available weekdays from 1 p.m. - 2:30 p.m. 
  You don't need to sign up in advance\, but the schedule is subject to cha
 nge\; you can check by calling the office at (707) 935-7314.
DTSTART;TZID=America/Los_Angeles:20300102T130000
DTEND;TZID=America/Los_Angeles:20300102T143000
LOCATION:469 3rd St West\, Sonoma\, AL 95476 US
SUMMARY:St Francis Food Pantry
END:VEVENT
END:VCALENDAR
