BEGIN:VCALENDAR
VERSION:2.0
PRODID:-//fishsonoma.org//NONSGML kigkonsult.se iCalcreator 2.30.10//
CALSCALE:GREGORIAN
METHOD:PUBLISH
UID:778e15ea-3e6e-49f6-b582-12cd0da6266d
X-WR-CALDESC:3 days of groceries available weekdays from 1 p.m. - 2:30 p.m.
   You don't need to sign up in advance\, but the schedule is subject to ch
 ange\; you can check by calling the office at (707) 935-7314.
X-WR-RELCALID:bbbf53f1a7efcdd46a606b6a8e86d0f2
X-WR-TIMEZONE:America/Los_Angeles
BEGIN:VTIMEZONE
TZID:America/Los_Angeles
BEGIN:STANDARD
TZNAME:PST
DTSTART:20291104T020000
TZOFFSETFROM:-0700
TZOFFSETTO:-0800
RDATE:20301103T020000
END:STANDARD
BEGIN:DAYLIGHT
TZNAME:PDT
DTSTART:20290311T020000
TZOFFSETFROM:-0800
TZOFFSETTO:-0700
RDATE:20300310T020000
RDATE:20310309T020000
END:DAYLIGHT
END:VTIMEZONE
BEGIN:VEVENT
UID:9c71c26a-585e-40eb-839c-cee3c5dc53fd
DTSTAMP:20260426T025928Z
DESCRIPTION:3 days of groceries available weekdays from 1 p.m. - 2:30 p.m. 
  You don't need to sign up in advance\, but the schedule is subject to cha
 nge\; you can check by calling the office at (707) 935-7314.
DTSTART;TZID=America/Los_Angeles:20291221T130000
DTEND;TZID=America/Los_Angeles:20291221T143000
LOCATION:469 3rd St West\, Sonoma\, AL 95476 US
SUMMARY:St Francis Food Pantry
END:VEVENT
END:VCALENDAR
