BEGIN:VCALENDAR
VERSION:2.0
PRODID:-//fishsonoma.org//NONSGML kigkonsult.se iCalcreator 2.30.10//
CALSCALE:GREGORIAN
METHOD:PUBLISH
UID:0f9c22f2-a4d7-4d57-b21d-739b3372fc23
X-WR-CALDESC:Redwood Empire Food Bank distribution at Alta Madrone apartmen
 ts (SAHA)
X-WR-RELCALID:c2c40b8f53886325593c4d906368815d
X-WR-TIMEZONE:America/Los_Angeles
BEGIN:VTIMEZONE
TZID:America/Los_Angeles
BEGIN:STANDARD
TZNAME:PST
DTSTART:20291104T020000
TZOFFSETFROM:-0700
TZOFFSETTO:-0800
RDATE:20301103T020000
END:STANDARD
BEGIN:DAYLIGHT
TZNAME:PDT
DTSTART:20290311T020000
TZOFFSETFROM:-0800
TZOFFSETTO:-0700
RDATE:20300310T020000
RDATE:20310309T020000
END:DAYLIGHT
END:VTIMEZONE
BEGIN:VEVENT
UID:5700b8d2-dbef-4ec3-8521-a91f01ba713c
DTSTAMP:20260426T011848Z
DESCRIPTION:Redwood Empire Food Bank distribution at Alta Madrone apartment
 s (SAHA)
DTSTART;TZID=America/Los_Angeles:20291210T140000
DTEND;TZID=America/Los_Angeles:20291210T150000
LOCATION:1269 Broadway\, Sonoma\, CA 95476 US
SUMMARY:REFB at Alta Madrone
END:VEVENT
END:VCALENDAR
