BEGIN:VCALENDAR
VERSION:2.0
PRODID:-//fishsonoma.org//NONSGML kigkonsult.se iCalcreator 2.30.10//
CALSCALE:GREGORIAN
METHOD:PUBLISH
UID:05593c33-8a25-4cae-8ed2-c7f5316c3159
X-WR-CALDESC:Redwood Empire Food Bank distribution at Sonoma Creek Senior H
 ousing.
X-WR-RELCALID:271a5d8a30b244cfea71b8ad04fce690
X-WR-TIMEZONE:America/Los_Angeles
BEGIN:VTIMEZONE
TZID:America/Los_Angeles
BEGIN:STANDARD
TZNAME:PST
DTSTART:20291104T020000
TZOFFSETFROM:-0700
TZOFFSETTO:-0800
RDATE:20301103T020000
END:STANDARD
BEGIN:DAYLIGHT
TZNAME:PDT
DTSTART:20290311T020000
TZOFFSETFROM:-0800
TZOFFSETTO:-0700
RDATE:20300310T020000
RDATE:20310309T020000
END:DAYLIGHT
END:VTIMEZONE
BEGIN:VEVENT
UID:b1de153d-c8b2-4807-920e-3006d2471eaa
DTSTAMP:20260425T234953Z
DESCRIPTION:Redwood Empire Food Bank distribution at Sonoma Creek Senior Ho
 using.
DTSTART;TZID=America/Los_Angeles:20291120T130000
DTEND;TZID=America/Los_Angeles:20291120T140000
LOCATION:809 Oregon St.\, Sonoma\, CA 95476 US
SUMMARY:REFB at Sonoma Creek Senior Housing
END:VEVENT
END:VCALENDAR
