BEGIN:VCALENDAR
VERSION:2.0
PRODID:-//fishsonoma.org//NONSGML kigkonsult.se iCalcreator 2.30.10//
CALSCALE:GREGORIAN
METHOD:PUBLISH
UID:001f9a95-e590-4f5e-bf2b-cef6040a22ea
X-WR-CALDESC:
X-WR-RELCALID:fcf26c9af801dea2cb2a919bdbe3c18c
X-WR-TIMEZONE:America/Los_Angeles
BEGIN:VTIMEZONE
TZID:America/Los_Angeles
BEGIN:STANDARD
TZNAME:PST
DTSTART:20291104T020000
TZOFFSETFROM:-0700
TZOFFSETTO:-0800
RDATE:20301103T020000
END:STANDARD
BEGIN:DAYLIGHT
TZNAME:PDT
DTSTART:20290311T020000
TZOFFSETFROM:-0800
TZOFFSETTO:-0700
RDATE:20300310T020000
RDATE:20310309T020000
END:DAYLIGHT
END:VTIMEZONE
BEGIN:VEVENT
UID:9ea46cf9-77f9-4574-b61e-fb9493cde923
DTSTAMP:20260425T233526Z
DESCRIPTION:
DTSTART;TZID=America/Los_Angeles:20291113T130000
DTEND;TZID=America/Los_Angeles:20291113T140000
LOCATION:18800 Beatrice Dr.\, Sonoma\, AL 95476 US
SUMMARY:REFB at Oak Ridge Senior Apts
END:VEVENT
END:VCALENDAR
