BEGIN:VCALENDAR
VERSION:2.0
PRODID:-//fishsonoma.org//NONSGML kigkonsult.se iCalcreator 2.30.10//
CALSCALE:GREGORIAN
METHOD:PUBLISH
UID:21d01221-38d5-4996-9cba-2fb9fa857bf6
X-WR-CALDESC:Council on Aging provides 'Community Table' lunch and conversa
 tion for age 60+. Please see link for menus and details on how to register
 .
X-WR-RELCALID:57becbd5d4ad6ce20f7024acb51e43a7
X-WR-TIMEZONE:America/Los_Angeles
BEGIN:VTIMEZONE
TZID:America/Los_Angeles
BEGIN:STANDARD
TZNAME:PST
DTSTART:20291104T020000
TZOFFSETFROM:-0700
TZOFFSETTO:-0800
RDATE:20301103T020000
END:STANDARD
BEGIN:DAYLIGHT
TZNAME:PDT
DTSTART:20290311T020000
TZOFFSETFROM:-0800
TZOFFSETTO:-0700
RDATE:20300310T020000
RDATE:20310309T020000
END:DAYLIGHT
END:VTIMEZONE
BEGIN:VEVENT
UID:ad32ae5c-c2ef-484c-a146-1dd09aa21ae7
DTSTAMP:20260425T234117Z
DESCRIPTION:Council on Aging provides 'Community Table' lunch and conversat
 ion for age 60+. Please see link for menus and details on how to register.
DTSTART;TZID=America/Los_Angeles:20291113T120000
DTEND;TZID=America/Los_Angeles:20291113T130000
LOCATION:18800 Beatrice Dr.\, Sonoma\, CA 95476 US
SUMMARY:Community Lunch at Oakridge
END:VEVENT
END:VCALENDAR
