BEGIN:VCALENDAR
VERSION:2.0
PRODID:-//fishsonoma.org//NONSGML kigkonsult.se iCalcreator 2.30.10//
CALSCALE:GREGORIAN
METHOD:PUBLISH
UID:446ddcd7-82fa-41af-b217-f1cf0601c9d9
X-WR-CALDESC:3 days of groceries available weekdays from 1 p.m. - 2:30 p.m.
   You don't need to sign up in advance\, but the schedule is subject to ch
 ange\; you can check by calling the office at (707) 935-7314.
X-WR-RELCALID:960b1d02dc45f6282c2d3bcf67ce0cb9
X-WR-TIMEZONE:America/Los_Angeles
BEGIN:VTIMEZONE
TZID:America/Los_Angeles
BEGIN:STANDARD
TZNAME:PST
DTSTART:20281105T020000
TZOFFSETFROM:-0700
TZOFFSETTO:-0800
RDATE:20291104T020000
RDATE:20301103T020000
END:STANDARD
BEGIN:DAYLIGHT
TZNAME:PDT
DTSTART:20290311T020000
TZOFFSETFROM:-0800
TZOFFSETTO:-0700
RDATE:20300310T020000
RDATE:20310309T020000
END:DAYLIGHT
END:VTIMEZONE
BEGIN:VEVENT
UID:fd384ade-8f24-48e9-8b75-85c653021138
DTSTAMP:20260426T012440Z
DESCRIPTION:3 days of groceries available weekdays from 1 p.m. - 2:30 p.m. 
  You don't need to sign up in advance\, but the schedule is subject to cha
 nge\; you can check by calling the office at (707) 935-7314.
DTSTART;TZID=America/Los_Angeles:20291025T130000
DTEND;TZID=America/Los_Angeles:20291025T143000
LOCATION:469 3rd St West\, Sonoma\, AL 95476 US
SUMMARY:St Francis Food Pantry
END:VEVENT
END:VCALENDAR
