BEGIN:VCALENDAR
VERSION:2.0
PRODID:-//fishsonoma.org//NONSGML kigkonsult.se iCalcreator 2.30.10//
CALSCALE:GREGORIAN
METHOD:PUBLISH
UID:347756fc-2982-449a-b9a5-bee8ba813fe5
X-WR-CALDESC:Free hot meals from Sonoma Family Meal. Pick-up at the Unity K
 itchen on Hwy 12 between 9 a.m. and 1 p.m. No pre-registration required.
X-WR-RELCALID:d00d4440ed10b1303ab6cd498ce5debe
X-WR-TIMEZONE:America/Los_Angeles
BEGIN:VTIMEZONE
TZID:America/Los_Angeles
BEGIN:STANDARD
TZNAME:PST
DTSTART:20281105T020000
TZOFFSETFROM:-0700
TZOFFSETTO:-0800
RDATE:20291104T020000
RDATE:20301103T020000
END:STANDARD
BEGIN:DAYLIGHT
TZNAME:PDT
DTSTART:20290311T020000
TZOFFSETFROM:-0800
TZOFFSETTO:-0700
RDATE:20300310T020000
RDATE:20310309T020000
END:DAYLIGHT
END:VTIMEZONE
BEGIN:VEVENT
UID:7aa00cd0-d34f-4c22-a264-bef4361d5a2f
DTSTAMP:20260426T025819Z
DESCRIPTION:Free hot meals from Sonoma Family Meal. Pick-up at the Unity Ki
 tchen on Hwy 12 between 9 a.m. and 1 p.m. No pre-registration required.
DTSTART;TZID=America/Los_Angeles:20291005T090000
DTEND;TZID=America/Los_Angeles:20291005T130000
LOCATION:17400 Sonoma Highway\, Sonoma\, AL 95476 US
SUMMARY:Unity Kitchen Meals for Pick Up
END:VEVENT
END:VCALENDAR
