BEGIN:VCALENDAR
VERSION:2.0
PRODID:-//fishsonoma.org//NONSGML kigkonsult.se iCalcreator 2.30.10//
CALSCALE:GREGORIAN
METHOD:PUBLISH
UID:64eb5579-20e5-4e91-a244-35f5fe71d9ea
X-WR-CALDESC:Redwood Empire Food Bank Distribution at Seven Flags Mobile Ho
 me Park
X-WR-RELCALID:ed9426693778317ed0b7a0143dec2520
X-WR-TIMEZONE:America/Los_Angeles
BEGIN:VTIMEZONE
TZID:America/Los_Angeles
BEGIN:STANDARD
TZNAME:PST
DTSTART:20281105T020000
TZOFFSETFROM:-0700
TZOFFSETTO:-0800
RDATE:20291104T020000
RDATE:20301103T020000
END:STANDARD
BEGIN:DAYLIGHT
TZNAME:PDT
DTSTART:20290311T020000
TZOFFSETFROM:-0800
TZOFFSETTO:-0700
RDATE:20300310T020000
RDATE:20310309T020000
END:DAYLIGHT
END:VTIMEZONE
BEGIN:VEVENT
UID:49112347-94bf-488d-8b28-506f4f8871a9
DTSTAMP:20260425T184459Z
DESCRIPTION:Redwood Empire Food Bank Distribution at Seven Flags Mobile Hom
 e Park
DTSTART;TZID=America/Los_Angeles:20290925T130000
DTEND;TZID=America/Los_Angeles:20290925T140000
LOCATION:1400 Watmaugh Road\, Sonoma\, CA 95476 US
SUMMARY:REFB at Seven Flags Mobile Park
END:VEVENT
END:VCALENDAR
