BEGIN:VCALENDAR
VERSION:2.0
PRODID:-//fishsonoma.org//NONSGML kigkonsult.se iCalcreator 2.30.10//
CALSCALE:GREGORIAN
METHOD:PUBLISH
UID:60058c38-9844-46f4-ac58-340b34004679
X-WR-CALDESC:Free hot meals from Sonoma Family Meal. Pick-up at the Unity K
 itchen on Hwy 12 between 9 a.m. and 1 p.m. No pre-registration required.
X-WR-RELCALID:197c81197acf0e88ca37dac9d9ef399d
X-WR-TIMEZONE:America/Los_Angeles
BEGIN:VTIMEZONE
TZID:America/Los_Angeles
BEGIN:STANDARD
TZNAME:PST
DTSTART:20281105T020000
TZOFFSETFROM:-0700
TZOFFSETTO:-0800
RDATE:20291104T020000
RDATE:20301103T020000
END:STANDARD
BEGIN:DAYLIGHT
TZNAME:PDT
DTSTART:20290311T020000
TZOFFSETFROM:-0800
TZOFFSETTO:-0700
RDATE:20300310T020000
END:DAYLIGHT
END:VTIMEZONE
BEGIN:VEVENT
UID:8f9885d5-3fc6-4195-b7af-aab47d86e7db
DTSTAMP:20260425T184225Z
DESCRIPTION:Free hot meals from Sonoma Family Meal. Pick-up at the Unity Ki
 tchen on Hwy 12 between 9 a.m. and 1 p.m. No pre-registration required.
DTSTART;TZID=America/Los_Angeles:20290905T090000
DTEND;TZID=America/Los_Angeles:20290905T130000
LOCATION:17400 Sonoma Highway\, Sonoma\, AL 95476 US
SUMMARY:Unity Kitchen Meals for Pick Up
END:VEVENT
END:VCALENDAR
