BEGIN:VCALENDAR
VERSION:2.0
PRODID:-//fishsonoma.org//NONSGML kigkonsult.se iCalcreator 2.30.10//
CALSCALE:GREGORIAN
METHOD:PUBLISH
UID:b27bfa06-17e7-44a5-a12e-370c4abbb1d0
X-WR-CALDESC:Redwood Empire Food Bank distribution at St. Patrick's Church 
 in Kenwood.
X-WR-RELCALID:ccd3e5e415e6f300526322b7139df9f4
X-WR-TIMEZONE:America/Los_Angeles
BEGIN:VTIMEZONE
TZID:America/Los_Angeles
BEGIN:STANDARD
TZNAME:PST
DTSTART:20281105T020000
TZOFFSETFROM:-0700
TZOFFSETTO:-0800
RDATE:20291104T020000
RDATE:20301103T020000
END:STANDARD
BEGIN:DAYLIGHT
TZNAME:PDT
DTSTART:20290311T020000
TZOFFSETFROM:-0800
TZOFFSETTO:-0700
RDATE:20300310T020000
END:DAYLIGHT
END:VTIMEZONE
BEGIN:VEVENT
UID:0ec842b0-e7bc-45a5-bfb7-567cc39dc464
DTSTAMP:20260425T154307Z
DESCRIPTION:Redwood Empire Food Bank distribution at St. Patrick's Church i
 n Kenwood.
DTSTART;TZID=America/Los_Angeles:20290723T170000
DTEND;TZID=America/Los_Angeles:20290723T180000
LOCATION:9000 Sonoma Highway\, Kenwood\, CA 95452 US
SUMMARY:REFB in Kenwood
END:VEVENT
END:VCALENDAR
