BEGIN:VCALENDAR
VERSION:2.0
PRODID:-//fishsonoma.org//NONSGML kigkonsult.se iCalcreator 2.30.10//
CALSCALE:GREGORIAN
METHOD:PUBLISH
UID:299e8d44-9795-4d2a-920f-1b781a00321c
X-WR-CALDESC:Free hot meals from Sonoma Family Meal. Pick-up at the Unity K
 itchen on Hwy 12 between 9 a.m. and 1 p.m. No pre-registration required.
X-WR-RELCALID:80dba7b6d0d796994a195c4ce84c8ae4
X-WR-TIMEZONE:America/Los_Angeles
BEGIN:VTIMEZONE
TZID:America/Los_Angeles
BEGIN:STANDARD
TZNAME:PST
DTSTART:20281105T020000
TZOFFSETFROM:-0700
TZOFFSETTO:-0800
RDATE:20291104T020000
RDATE:20301103T020000
END:STANDARD
BEGIN:DAYLIGHT
TZNAME:PDT
DTSTART:20290311T020000
TZOFFSETFROM:-0800
TZOFFSETTO:-0700
RDATE:20300310T020000
END:DAYLIGHT
END:VTIMEZONE
BEGIN:VEVENT
UID:fd14e038-a47e-42de-bc64-6e82c9f7d907
DTSTAMP:20260425T141900Z
DESCRIPTION:Free hot meals from Sonoma Family Meal. Pick-up at the Unity Ki
 tchen on Hwy 12 between 9 a.m. and 1 p.m. No pre-registration required.
DTSTART;TZID=America/Los_Angeles:20290531T090000
DTEND;TZID=America/Los_Angeles:20290531T130000
LOCATION:17400 Sonoma Highway\, Sonoma\, AL 95476 US
SUMMARY:Unity Kitchen Meals for Pick Up
END:VEVENT
END:VCALENDAR
