BEGIN:VCALENDAR
VERSION:2.0
PRODID:-//fishsonoma.org//NONSGML kigkonsult.se iCalcreator 2.30.10//
CALSCALE:GREGORIAN
METHOD:PUBLISH
UID:bba8aaaa-ee86-446f-a308-57d739d45f15
X-WR-CALDESC:Redwood Empire Food Bank Distribution at Seven Flags Mobile Ho
 me Park
X-WR-RELCALID:9f7dce51426175f7956408e064bfc16a
X-WR-TIMEZONE:America/Los_Angeles
BEGIN:VTIMEZONE
TZID:America/Los_Angeles
BEGIN:STANDARD
TZNAME:PST
DTSTART:20281105T020000
TZOFFSETFROM:-0700
TZOFFSETTO:-0800
RDATE:20291104T020000
RDATE:20301103T020000
END:STANDARD
BEGIN:DAYLIGHT
TZNAME:PDT
DTSTART:20290311T020000
TZOFFSETFROM:-0800
TZOFFSETTO:-0700
RDATE:20300310T020000
END:DAYLIGHT
END:VTIMEZONE
BEGIN:VEVENT
UID:c96d95b9-12b2-4cd6-bb88-564107c7e691
DTSTAMP:20260425T142002Z
DESCRIPTION:Redwood Empire Food Bank Distribution at Seven Flags Mobile Hom
 e Park
DTSTART;TZID=America/Los_Angeles:20290522T130000
DTEND;TZID=America/Los_Angeles:20290522T140000
LOCATION:1400 Watmaugh Road\, Sonoma\, CA 95476 US
SUMMARY:REFB at Seven Flags Mobile Park
END:VEVENT
END:VCALENDAR
