BEGIN:VCALENDAR
VERSION:2.0
PRODID:-//fishsonoma.org//NONSGML kigkonsult.se iCalcreator 2.30.10//
CALSCALE:GREGORIAN
METHOD:PUBLISH
UID:2a1ff2aa-d13a-45fa-9759-6adc2cc3feeb
X-WR-CALDESC:Redwood Empire Food Bank distribution at Alta Madrone apartmen
 ts (SAHA)
X-WR-RELCALID:2a3516a046159789a3ed17d74defbdd7
X-WR-TIMEZONE:America/Los_Angeles
BEGIN:VTIMEZONE
TZID:America/Los_Angeles
BEGIN:STANDARD
TZNAME:PST
DTSTART:20281105T020000
TZOFFSETFROM:-0700
TZOFFSETTO:-0800
RDATE:20291104T020000
RDATE:20301103T020000
END:STANDARD
BEGIN:DAYLIGHT
TZNAME:PDT
DTSTART:20290311T020000
TZOFFSETFROM:-0800
TZOFFSETTO:-0700
RDATE:20300310T020000
END:DAYLIGHT
END:VTIMEZONE
BEGIN:VEVENT
UID:3a8e1329-0256-45f4-8887-7c6cfdd0e2c8
DTSTAMP:20260425T142001Z
DESCRIPTION:Redwood Empire Food Bank distribution at Alta Madrone apartment
 s (SAHA)
DTSTART;TZID=America/Los_Angeles:20290514T140000
DTEND;TZID=America/Los_Angeles:20290514T150000
LOCATION:1269 Broadway\, Sonoma\, CA 95476 US
SUMMARY:REFB at Alta Madrone
END:VEVENT
END:VCALENDAR
