BEGIN:VCALENDAR
VERSION:2.0
PRODID:-//fishsonoma.org//NONSGML kigkonsult.se iCalcreator 2.30.10//
CALSCALE:GREGORIAN
METHOD:PUBLISH
UID:faf534e9-444e-48fb-89c7-30f26ce0483b
X-WR-CALDESC:Redwood Empire Food Bank distribution
X-WR-RELCALID:ac6a69def7de6d1c7945fb64e442aefe
X-WR-TIMEZONE:America/Los_Angeles
BEGIN:VTIMEZONE
TZID:America/Los_Angeles
BEGIN:STANDARD
TZNAME:PST
DTSTART:20281105T020000
TZOFFSETFROM:-0700
TZOFFSETTO:-0800
RDATE:20291104T020000
RDATE:20301103T020000
END:STANDARD
BEGIN:DAYLIGHT
TZNAME:PDT
DTSTART:20290311T020000
TZOFFSETFROM:-0800
TZOFFSETTO:-0700
RDATE:20300310T020000
END:DAYLIGHT
END:VTIMEZONE
BEGIN:VEVENT
UID:ebaf09ca-1a93-4bdd-b3ad-50781a8f4d45
DTSTAMP:20260425T124647Z
DESCRIPTION:Redwood Empire Food Bank distribution
DTSTART;TZID=America/Los_Angeles:20290508T163000
DTEND;TZID=America/Los_Angeles:20290508T173000
LOCATION:16290 Arnold Drive\, Sonoma\, CA 95476 US
SUMMARY:REFB at St. Andrew's Church
END:VEVENT
END:VCALENDAR
