BEGIN:VCALENDAR
VERSION:2.0
PRODID:-//fishsonoma.org//NONSGML kigkonsult.se iCalcreator 2.30.10//
CALSCALE:GREGORIAN
METHOD:PUBLISH
UID:e2409a5c-0fe2-4443-8d6c-5bb2b98709c6
X-WR-CALDESC:Redwood Empire Food Bank distribution at Alta Madrone apartmen
 ts (SAHA)
X-WR-RELCALID:10c090e8034694c1fba7da7952cd0901
X-WR-TIMEZONE:America/Los_Angeles
BEGIN:VTIMEZONE
TZID:America/Los_Angeles
BEGIN:STANDARD
TZNAME:PST
DTSTART:20281105T020000
TZOFFSETFROM:-0700
TZOFFSETTO:-0800
RDATE:20291104T020000
END:STANDARD
BEGIN:DAYLIGHT
TZNAME:PDT
DTSTART:20290311T020000
TZOFFSETFROM:-0800
TZOFFSETTO:-0700
RDATE:20300310T020000
END:DAYLIGHT
END:VTIMEZONE
BEGIN:VEVENT
UID:75a52d3e-320b-46ae-85d2-fd001274e9bc
DTSTAMP:20260425T111613Z
DESCRIPTION:Redwood Empire Food Bank distribution at Alta Madrone apartment
 s (SAHA)
DTSTART;TZID=America/Los_Angeles:20290423T140000
DTEND;TZID=America/Los_Angeles:20290423T150000
LOCATION:1269 Broadway\, Sonoma\, CA 95476 US
SUMMARY:REFB at Alta Madrone
END:VEVENT
END:VCALENDAR
