BEGIN:VCALENDAR
VERSION:2.0
PRODID:-//fishsonoma.org//NONSGML kigkonsult.se iCalcreator 2.30.10//
CALSCALE:GREGORIAN
METHOD:PUBLISH
UID:7f90cb86-290d-4846-a83a-552fb7c0a774
X-WR-CALDESC:Free hot meals from Sonoma Family Meal. Pick-up at the Unity K
 itchen on Hwy 12 between 9 a.m. and 1 p.m. No pre-registration required.
X-WR-RELCALID:cc3aad406ffa4651ba191715e1c8575f
X-WR-TIMEZONE:America/Los_Angeles
BEGIN:VTIMEZONE
TZID:America/Los_Angeles
BEGIN:STANDARD
TZNAME:PST
DTSTART:20281105T020000
TZOFFSETFROM:-0700
TZOFFSETTO:-0800
RDATE:20291104T020000
END:STANDARD
BEGIN:DAYLIGHT
TZNAME:PDT
DTSTART:20290311T020000
TZOFFSETFROM:-0800
TZOFFSETTO:-0700
RDATE:20300310T020000
END:DAYLIGHT
END:VTIMEZONE
BEGIN:VEVENT
UID:47c6c2b1-a88e-4a65-aa4b-1c7109ebe868
DTSTAMP:20260425T125222Z
DESCRIPTION:Free hot meals from Sonoma Family Meal. Pick-up at the Unity Ki
 tchen on Hwy 12 between 9 a.m. and 1 p.m. No pre-registration required.
DTSTART;TZID=America/Los_Angeles:20290423T090000
DTEND;TZID=America/Los_Angeles:20290423T130000
LOCATION:17400 Sonoma Highway\, Sonoma\, AL 95476 US
SUMMARY:Unity Kitchen Meals for Pick Up
END:VEVENT
END:VCALENDAR
