BEGIN:VCALENDAR
VERSION:2.0
PRODID:-//fishsonoma.org//NONSGML kigkonsult.se iCalcreator 2.30.10//
CALSCALE:GREGORIAN
METHOD:PUBLISH
UID:65e5e41e-abfb-47f6-b124-745a2d8c483a
X-WR-CALDESC:
X-WR-RELCALID:2ad557596c9c0379576400b9ef0aa33e
X-WR-TIMEZONE:America/Los_Angeles
BEGIN:VTIMEZONE
TZID:America/Los_Angeles
BEGIN:STANDARD
TZNAME:PST
DTSTART:20281105T020000
TZOFFSETFROM:-0700
TZOFFSETTO:-0800
RDATE:20291104T020000
END:STANDARD
BEGIN:DAYLIGHT
TZNAME:PDT
DTSTART:20290311T020000
TZOFFSETFROM:-0800
TZOFFSETTO:-0700
RDATE:20300310T020000
END:DAYLIGHT
END:VTIMEZONE
BEGIN:VEVENT
UID:56a8420c-43e0-4ff6-97e5-197d646b15c4
DTSTAMP:20260425T111726Z
DESCRIPTION:
DTSTART;TZID=America/Los_Angeles:20290410T130000
DTEND;TZID=America/Los_Angeles:20290410T140000
LOCATION:18800 Beatrice Dr.\, Sonoma\, AL 95476 US
SUMMARY:REFB at Oak Ridge Senior Apts
END:VEVENT
END:VCALENDAR
