BEGIN:VCALENDAR
VERSION:2.0
PRODID:-//fishsonoma.org//NONSGML kigkonsult.se iCalcreator 2.30.10//
CALSCALE:GREGORIAN
METHOD:PUBLISH
UID:29b2c0e0-c09e-4cb5-8aae-b3b5f2702371
X-WR-CALDESC:Redwood Empire Food Bank distribution
X-WR-RELCALID:eeac8a3a661a6647bb2175c62e3bb089
X-WR-TIMEZONE:America/Los_Angeles
BEGIN:VTIMEZONE
TZID:America/Los_Angeles
BEGIN:STANDARD
TZNAME:PST
DTSTART:20271107T020000
TZOFFSETFROM:-0700
TZOFFSETTO:-0800
RDATE:20281105T020000
RDATE:20291104T020000
END:STANDARD
BEGIN:DAYLIGHT
TZNAME:PDT
DTSTART:20280312T020000
TZOFFSETFROM:-0800
TZOFFSETTO:-0700
RDATE:20290311T020000
RDATE:20300310T020000
END:DAYLIGHT
END:VTIMEZONE
BEGIN:VEVENT
UID:2d5a6696-4580-4623-a6a3-9734b1b47bb4
DTSTAMP:20260425T004150Z
DESCRIPTION:Redwood Empire Food Bank distribution
DTSTART;TZID=America/Los_Angeles:20280926T083000
DTEND;TZID=America/Los_Angeles:20280926T093000
LOCATION:601 Agua Caliente Road W\, Sonoma\, CA 95476 US
SUMMARY:REFB at St. Leo's
END:VEVENT
END:VCALENDAR
