BEGIN:VCALENDAR
VERSION:2.0
PRODID:-//fishsonoma.org//NONSGML kigkonsult.se iCalcreator 2.30.10//
CALSCALE:GREGORIAN
METHOD:PUBLISH
UID:25e5821a-ee54-45d3-9cd6-4ba266808887
X-WR-CALDESC:Council on Aging provides 'Community Table' lunch and conversa
 tion for age 60+. Please see link for menus and details on how to register
 .
X-WR-RELCALID:7086f30b291b48b694f2bffe69635a0f
X-WR-TIMEZONE:America/Los_Angeles
BEGIN:VTIMEZONE
TZID:America/Los_Angeles
BEGIN:STANDARD
TZNAME:PST
DTSTART:20271107T020000
TZOFFSETFROM:-0700
TZOFFSETTO:-0800
RDATE:20281105T020000
RDATE:20291104T020000
END:STANDARD
BEGIN:DAYLIGHT
TZNAME:PDT
DTSTART:20280312T020000
TZOFFSETFROM:-0800
TZOFFSETTO:-0700
RDATE:20290311T020000
END:DAYLIGHT
END:VTIMEZONE
BEGIN:VEVENT
UID:1e8c0dba-53a4-47b4-8df2-367af210f0bf
DTSTAMP:20260425T004218Z
DESCRIPTION:Council on Aging provides 'Community Table' lunch and conversat
 ion for age 60+. Please see link for menus and details on how to register.
DTSTART;TZID=America/Los_Angeles:20280815T120000
DTEND;TZID=America/Los_Angeles:20280815T130000
LOCATION:18800 Beatrice Dr.\, Sonoma\, CA 95476 US
SUMMARY:Community Lunch at Oakridge
END:VEVENT
END:VCALENDAR
