BEGIN:VCALENDAR
VERSION:2.0
PRODID:-//fishsonoma.org//NONSGML kigkonsult.se iCalcreator 2.30.10//
CALSCALE:GREGORIAN
METHOD:PUBLISH
UID:1e5af34a-3c27-4ac3-8366-41457bd6c7d0
X-WR-CALDESC:Call 707-996-8422 between 9:30 - 11 a.m. for same day food pic
 k-up between 11:30 - 12:30 p.m. Come once a month.
X-WR-RELCALID:19d17f7ca9ef8f4e9b885d1347f9b6a7
X-WR-TIMEZONE:America/Los_Angeles
BEGIN:VTIMEZONE
TZID:America/Los_Angeles
BEGIN:STANDARD
TZNAME:PST
DTSTART:20271107T020000
TZOFFSETFROM:-0700
TZOFFSETTO:-0800
RDATE:20281105T020000
RDATE:20291104T020000
END:STANDARD
BEGIN:DAYLIGHT
TZNAME:PDT
DTSTART:20280312T020000
TZOFFSETFROM:-0800
TZOFFSETTO:-0700
RDATE:20290311T020000
END:DAYLIGHT
END:VTIMEZONE
BEGIN:VEVENT
UID:7374ca97-c3af-4b70-a21c-3a551d8fde0b
DTSTAMP:20260424T231632Z
DESCRIPTION:Call 707-996-8422 between 9:30 - 11 a.m. for same day food pick
 -up between 11:30 - 12:30 p.m. Come once a month.
DTSTART;TZID=America/Los_Angeles:20280720T113000
DTEND;TZID=America/Los_Angeles:20280720T123000
LOCATION:601 W. Agua Caliente Rd\, Sonoma\, CA 95476 US
SUMMARY:St. Leo's Food Pantry
END:VEVENT
END:VCALENDAR
