BEGIN:VCALENDAR
VERSION:2.0
PRODID:-//fishsonoma.org//NONSGML kigkonsult.se iCalcreator 2.30.10//
CALSCALE:GREGORIAN
METHOD:PUBLISH
UID:7a70870c-5a8e-4b67-87ba-2559cce56d08
X-WR-CALDESC:Redwood Empire Food Bank distribution at Sonoma Creek Senior H
 ousing.
X-WR-RELCALID:33bdb10b15087ff2b87c1420eae14638
X-WR-TIMEZONE:America/Los_Angeles
BEGIN:VTIMEZONE
TZID:America/Los_Angeles
BEGIN:STANDARD
TZNAME:PST
DTSTART:20271107T020000
TZOFFSETFROM:-0700
TZOFFSETTO:-0800
RDATE:20281105T020000
RDATE:20291104T020000
END:STANDARD
BEGIN:DAYLIGHT
TZNAME:PDT
DTSTART:20280312T020000
TZOFFSETFROM:-0800
TZOFFSETTO:-0700
RDATE:20290311T020000
END:DAYLIGHT
END:VTIMEZONE
BEGIN:VEVENT
UID:428177d7-87f2-4cec-bd08-fa8afd1aa23a
DTSTAMP:20260424T213938Z
DESCRIPTION:Redwood Empire Food Bank distribution at Sonoma Creek Senior Ho
 using.
DTSTART;TZID=America/Los_Angeles:20280718T130000
DTEND;TZID=America/Los_Angeles:20280718T140000
LOCATION:809 Oregon St.\, Sonoma\, CA 95476 US
SUMMARY:REFB at Sonoma Creek Senior Housing
END:VEVENT
END:VCALENDAR
