BEGIN:VCALENDAR
VERSION:2.0
PRODID:-//fishsonoma.org//NONSGML kigkonsult.se iCalcreator 2.30.10//
CALSCALE:GREGORIAN
METHOD:PUBLISH
UID:f9945f7a-91dd-4fb9-99f2-440aa69463e1
X-WR-CALDESC:Redwood Empire Food Bank distribution
X-WR-RELCALID:e593b6ae9b855c392b9bd5bb038eb3e1
X-WR-TIMEZONE:America/Los_Angeles
BEGIN:VTIMEZONE
TZID:America/Los_Angeles
BEGIN:STANDARD
TZNAME:PST
DTSTART:20271107T020000
TZOFFSETFROM:-0700
TZOFFSETTO:-0800
RDATE:20281105T020000
RDATE:20291104T020000
END:STANDARD
BEGIN:DAYLIGHT
TZNAME:PDT
DTSTART:20280312T020000
TZOFFSETFROM:-0800
TZOFFSETTO:-0700
RDATE:20290311T020000
END:DAYLIGHT
END:VTIMEZONE
BEGIN:VEVENT
UID:8495c084-c454-48e0-9ac0-3a53630d72c2
DTSTAMP:20260424T213541Z
DESCRIPTION:Redwood Empire Food Bank distribution
DTSTART;TZID=America/Los_Angeles:20280718T083000
DTEND;TZID=America/Los_Angeles:20280718T093000
LOCATION:601 Agua Caliente Road W\, Sonoma\, CA 95476 US
SUMMARY:REFB at St. Leo's
END:VEVENT
END:VCALENDAR
