BEGIN:VCALENDAR
VERSION:2.0
PRODID:-//fishsonoma.org//NONSGML kigkonsult.se iCalcreator 2.30.10//
CALSCALE:GREGORIAN
METHOD:PUBLISH
UID:025f6cdb-0cbd-43a7-9300-ab9fb514d15b
X-WR-CALDESC:Redwood Empire Food Bank distribution
X-WR-RELCALID:d1d34c1b7737ebbcaed42f09668594e1
X-WR-TIMEZONE:America/Los_Angeles
BEGIN:VTIMEZONE
TZID:America/Los_Angeles
BEGIN:STANDARD
TZNAME:PST
DTSTART:20271107T020000
TZOFFSETFROM:-0700
TZOFFSETTO:-0800
RDATE:20281105T020000
RDATE:20291104T020000
END:STANDARD
BEGIN:DAYLIGHT
TZNAME:PDT
DTSTART:20280312T020000
TZOFFSETFROM:-0800
TZOFFSETTO:-0700
RDATE:20290311T020000
END:DAYLIGHT
END:VTIMEZONE
BEGIN:VEVENT
UID:9cddd9d8-e8b9-4808-b01f-09af5cdd7215
DTSTAMP:20260424T231339Z
DESCRIPTION:Redwood Empire Food Bank distribution
DTSTART;TZID=America/Los_Angeles:20280711T163000
DTEND;TZID=America/Los_Angeles:20280711T173000
LOCATION:16290 Arnold Drive\, Sonoma\, CA 95476 US
SUMMARY:REFB at St. Andrew's Church
END:VEVENT
END:VCALENDAR
