BEGIN:VCALENDAR
VERSION:2.0
PRODID:-//fishsonoma.org//NONSGML kigkonsult.se iCalcreator 2.30.10//
CALSCALE:GREGORIAN
METHOD:PUBLISH
UID:1413e74e-d1c4-40ed-b481-34715c8a0261
X-WR-CALDESC:Call 707-996-8422 between 9:30 - 11 a.m. for same day food pic
 k-up between 11:30 - 12:30 p.m. Come once a month.
X-WR-RELCALID:f026f94309dc97e13cee88f9af0bf645
X-WR-TIMEZONE:America/Los_Angeles
BEGIN:VTIMEZONE
TZID:America/Los_Angeles
BEGIN:STANDARD
TZNAME:PST
DTSTART:20271107T020000
TZOFFSETFROM:-0700
TZOFFSETTO:-0800
RDATE:20281105T020000
RDATE:20291104T020000
END:STANDARD
BEGIN:DAYLIGHT
TZNAME:PDT
DTSTART:20280312T020000
TZOFFSETFROM:-0800
TZOFFSETTO:-0700
RDATE:20290311T020000
END:DAYLIGHT
END:VTIMEZONE
BEGIN:VEVENT
UID:98061bc4-451c-47d3-afdf-302d3c74dabe
DTSTAMP:20260424T185657Z
DESCRIPTION:Call 707-996-8422 between 9:30 - 11 a.m. for same day food pick
 -up between 11:30 - 12:30 p.m. Come once a month.
DTSTART;TZID=America/Los_Angeles:20280518T113000
DTEND;TZID=America/Los_Angeles:20280518T123000
LOCATION:601 W. Agua Caliente Rd\, Sonoma\, CA 95476 US
SUMMARY:St. Leo's Food Pantry
END:VEVENT
END:VCALENDAR
