BEGIN:VCALENDAR
VERSION:2.0
PRODID:-//fishsonoma.org//NONSGML kigkonsult.se iCalcreator 2.30.10//
CALSCALE:GREGORIAN
METHOD:PUBLISH
UID:9785f9b6-93d2-455b-9a35-97e82430e9ee
X-WR-CALDESC:Redwood Empire Food Bank distribution at St. Patrick's Church 
 in Kenwood.
X-WR-RELCALID:73c658e941d7c3d09ffaf9eeb13c34ef
X-WR-TIMEZONE:America/Los_Angeles
BEGIN:VTIMEZONE
TZID:America/Los_Angeles
BEGIN:STANDARD
TZNAME:PST
DTSTART:20271107T020000
TZOFFSETFROM:-0700
TZOFFSETTO:-0800
RDATE:20281105T020000
RDATE:20291104T020000
END:STANDARD
BEGIN:DAYLIGHT
TZNAME:PDT
DTSTART:20280312T020000
TZOFFSETFROM:-0800
TZOFFSETTO:-0700
RDATE:20290311T020000
END:DAYLIGHT
END:VTIMEZONE
BEGIN:VEVENT
UID:98fef7a9-ecf0-4317-8bc3-3a4e65ae01f9
DTSTAMP:20260424T184807Z
DESCRIPTION:Redwood Empire Food Bank distribution at St. Patrick's Church i
 n Kenwood.
DTSTART;TZID=America/Los_Angeles:20280508T170000
DTEND;TZID=America/Los_Angeles:20280508T180000
LOCATION:9000 Sonoma Highway\, Kenwood\, CA 95452 US
SUMMARY:REFB in Kenwood
END:VEVENT
END:VCALENDAR
