BEGIN:VCALENDAR
VERSION:2.0
PRODID:-//fishsonoma.org//NONSGML kigkonsult.se iCalcreator 2.30.10//
CALSCALE:GREGORIAN
METHOD:PUBLISH
UID:8d26a1b8-e637-45fd-ba90-380ebed3f8c9
X-WR-CALDESC:Redwood Empire Food Bank distribution at Alta Madrone apartmen
 ts (SAHA)
X-WR-RELCALID:919ffdd1df6e048020d5c369687a2165
X-WR-TIMEZONE:America/Los_Angeles
BEGIN:VTIMEZONE
TZID:America/Los_Angeles
BEGIN:STANDARD
TZNAME:PST
DTSTART:20271107T020000
TZOFFSETFROM:-0700
TZOFFSETTO:-0800
RDATE:20281105T020000
RDATE:20291104T020000
END:STANDARD
BEGIN:DAYLIGHT
TZNAME:PDT
DTSTART:20280312T020000
TZOFFSETFROM:-0800
TZOFFSETTO:-0700
RDATE:20290311T020000
END:DAYLIGHT
END:VTIMEZONE
BEGIN:VEVENT
UID:5bbb89cf-f922-490f-922c-70d1ed89d354
DTSTAMP:20260424T184746Z
DESCRIPTION:Redwood Empire Food Bank distribution at Alta Madrone apartment
 s (SAHA)
DTSTART;TZID=America/Los_Angeles:20280508T140000
DTEND;TZID=America/Los_Angeles:20280508T150000
LOCATION:1269 Broadway\, Sonoma\, CA 95476 US
SUMMARY:REFB at Alta Madrone
END:VEVENT
END:VCALENDAR
