BEGIN:VCALENDAR
VERSION:2.0
PRODID:-//fishsonoma.org//NONSGML kigkonsult.se iCalcreator 2.30.10//
CALSCALE:GREGORIAN
METHOD:PUBLISH
UID:7f7e8040-2184-4b95-b15a-7f7654785241
X-WR-CALDESC:Redwood Empire Food Bank Distribution at Seven Flags Mobile Ho
 me Park
X-WR-RELCALID:844a343ac61e768b08a599f27f01531c
X-WR-TIMEZONE:America/Los_Angeles
BEGIN:VTIMEZONE
TZID:America/Los_Angeles
BEGIN:STANDARD
TZNAME:PST
DTSTART:20271107T020000
TZOFFSETFROM:-0700
TZOFFSETTO:-0800
RDATE:20281105T020000
END:STANDARD
BEGIN:DAYLIGHT
TZNAME:PDT
DTSTART:20280312T020000
TZOFFSETFROM:-0800
TZOFFSETTO:-0700
RDATE:20290311T020000
END:DAYLIGHT
END:VTIMEZONE
BEGIN:VEVENT
UID:8c66b720-9d8f-4477-b81f-224da945eab3
DTSTAMP:20260424T171317Z
DESCRIPTION:Redwood Empire Food Bank Distribution at Seven Flags Mobile Hom
 e Park
DTSTART;TZID=America/Los_Angeles:20280425T130000
DTEND;TZID=America/Los_Angeles:20280425T140000
LOCATION:1400 Watmaugh Road\, Sonoma\, CA 95476 US
SUMMARY:REFB at Seven Flags Mobile Park
END:VEVENT
END:VCALENDAR
