BEGIN:VCALENDAR
VERSION:2.0
PRODID:-//fishsonoma.org//NONSGML kigkonsult.se iCalcreator 2.30.10//
CALSCALE:GREGORIAN
METHOD:PUBLISH
UID:c5d9f57b-0e81-4bc9-9242-9756312f71f0
X-WR-CALDESC:Redwood Empire Food Bank distribution at St. Patrick's Church 
 in Kenwood.
X-WR-RELCALID:c0ef8574a71d86d7457e475526608417
X-WR-TIMEZONE:America/Los_Angeles
BEGIN:VTIMEZONE
TZID:America/Los_Angeles
BEGIN:STANDARD
TZNAME:PST
DTSTART:20271107T020000
TZOFFSETFROM:-0700
TZOFFSETTO:-0800
RDATE:20281105T020000
END:STANDARD
BEGIN:DAYLIGHT
TZNAME:PDT
DTSTART:20280312T020000
TZOFFSETFROM:-0800
TZOFFSETTO:-0700
RDATE:20290311T020000
END:DAYLIGHT
END:VTIMEZONE
BEGIN:VEVENT
UID:8b9f8dc3-478f-40f0-81c4-5b62a64f3860
DTSTAMP:20260424T171447Z
DESCRIPTION:Redwood Empire Food Bank distribution at St. Patrick's Church i
 n Kenwood.
DTSTART;TZID=America/Los_Angeles:20280424T170000
DTEND;TZID=America/Los_Angeles:20280424T180000
LOCATION:9000 Sonoma Highway\, Kenwood\, CA 95452 US
SUMMARY:REFB in Kenwood
END:VEVENT
END:VCALENDAR
