BEGIN:VCALENDAR
VERSION:2.0
PRODID:-//fishsonoma.org//NONSGML kigkonsult.se iCalcreator 2.30.10//
CALSCALE:GREGORIAN
METHOD:PUBLISH
UID:2838b33a-13d7-4f04-b0cc-2d1063fb04d8
X-WR-CALDESC:Redwood Empire Food Bank distribution at Sonoma Valley Communi
 ty Health Center
X-WR-RELCALID:30b83f00ad4082c42c4ef5aa479df54b
X-WR-TIMEZONE:America/Los_Angeles
BEGIN:VTIMEZONE
TZID:America/Los_Angeles
BEGIN:STANDARD
TZNAME:PST
DTSTART:20271107T020000
TZOFFSETFROM:-0700
TZOFFSETTO:-0800
RDATE:20281105T020000
END:STANDARD
BEGIN:DAYLIGHT
TZNAME:PDT
DTSTART:20280312T020000
TZOFFSETFROM:-0800
TZOFFSETTO:-0700
RDATE:20290311T020000
END:DAYLIGHT
END:VTIMEZONE
BEGIN:VEVENT
UID:210ed9a5-d117-4ea5-9c0c-8b505f6855be
DTSTAMP:20260424T171448Z
DESCRIPTION:Redwood Empire Food Bank distribution at Sonoma Valley Communit
 y Health Center
DTSTART;TZID=America/Los_Angeles:20280421T083000
DTEND;TZID=America/Los_Angeles:20280421T093000
LOCATION:19270 Sonoma Highway\, Sonoma\, CA 95476 US
SUMMARY:REFB at Health Center
END:VEVENT
END:VCALENDAR
