BEGIN:VCALENDAR
VERSION:2.0
PRODID:-//fishsonoma.org//NONSGML kigkonsult.se iCalcreator 2.30.10//
CALSCALE:GREGORIAN
METHOD:PUBLISH
UID:5255dda5-53b7-41e6-99fb-a12e88afacab
X-WR-CALDESC:Redwood Empire Food Bank distribution
X-WR-RELCALID:d4d8cf1e9cf077a83a03788c9658704b
X-WR-TIMEZONE:America/Los_Angeles
BEGIN:VTIMEZONE
TZID:America/Los_Angeles
BEGIN:STANDARD
TZNAME:PST
DTSTART:20271107T020000
TZOFFSETFROM:-0700
TZOFFSETTO:-0800
RDATE:20281105T020000
END:STANDARD
BEGIN:DAYLIGHT
TZNAME:PDT
DTSTART:20280312T020000
TZOFFSETFROM:-0800
TZOFFSETTO:-0700
RDATE:20290311T020000
END:DAYLIGHT
END:VTIMEZONE
BEGIN:VEVENT
UID:77abea63-9f22-441e-a5dd-e287a9d72194
DTSTAMP:20260424T171936Z
DESCRIPTION:Redwood Empire Food Bank distribution
DTSTART;TZID=America/Los_Angeles:20280418T163000
DTEND;TZID=America/Los_Angeles:20280418T173000
LOCATION:16290 Arnold Drive\, Sonoma\, CA 95476 US
SUMMARY:REFB at St. Andrew's Church
END:VEVENT
END:VCALENDAR
