BEGIN:VCALENDAR
VERSION:2.0
PRODID:-//fishsonoma.org//NONSGML kigkonsult.se iCalcreator 2.30.10//
CALSCALE:GREGORIAN
METHOD:PUBLISH
UID:f2ea0ccf-5d6c-42ab-bd9a-f1a997bc2bda
X-WR-CALDESC:
X-WR-RELCALID:d5079768aa47d0b7bb726fa30cf4862a
X-WR-TIMEZONE:America/Los_Angeles
BEGIN:VTIMEZONE
TZID:America/Los_Angeles
BEGIN:STANDARD
TZNAME:PST
DTSTART:20271107T020000
TZOFFSETFROM:-0700
TZOFFSETTO:-0800
RDATE:20281105T020000
END:STANDARD
BEGIN:DAYLIGHT
TZNAME:PDT
DTSTART:20280312T020000
TZOFFSETFROM:-0800
TZOFFSETTO:-0700
RDATE:20290311T020000
END:DAYLIGHT
END:VTIMEZONE
BEGIN:VEVENT
UID:e76126b1-451d-4984-aa27-6bd8b4894a0f
DTSTAMP:20260424T171445Z
DESCRIPTION:
DTSTART;TZID=America/Los_Angeles:20280411T130000
DTEND;TZID=America/Los_Angeles:20280411T140000
LOCATION:18800 Beatrice Dr.\, Sonoma\, AL 95476 US
SUMMARY:REFB at Oak Ridge Senior Apts
END:VEVENT
END:VCALENDAR
