BEGIN:VCALENDAR
VERSION:2.0
PRODID:-//fishsonoma.org//NONSGML kigkonsult.se iCalcreator 2.30.10//
CALSCALE:GREGORIAN
METHOD:PUBLISH
UID:4f76fee8-a9ca-4bf6-b64d-3d4c41c552b4
X-WR-CALDESC:Redwood Empire Food Bank distribution at Sonoma Creek Senior H
 ousing.
X-WR-RELCALID:feb440c1c76b65273c3347e1bd478bb0
X-WR-TIMEZONE:America/Los_Angeles
BEGIN:VTIMEZONE
TZID:America/Los_Angeles
BEGIN:STANDARD
TZNAME:PST
DTSTART:20271107T020000
TZOFFSETFROM:-0700
TZOFFSETTO:-0800
RDATE:20281105T020000
END:STANDARD
BEGIN:DAYLIGHT
TZNAME:PDT
DTSTART:20280312T020000
TZOFFSETFROM:-0800
TZOFFSETTO:-0700
RDATE:20290311T020000
END:DAYLIGHT
END:VTIMEZONE
BEGIN:VEVENT
UID:eddf6321-5c97-4735-bfc3-4d537becdd36
DTSTAMP:20260424T154044Z
DESCRIPTION:Redwood Empire Food Bank distribution at Sonoma Creek Senior Ho
 using.
DTSTART;TZID=America/Los_Angeles:20280321T130000
DTEND;TZID=America/Los_Angeles:20280321T140000
LOCATION:809 Oregon St.\, Sonoma\, CA 95476 US
SUMMARY:REFB at Sonoma Creek Senior Housing
END:VEVENT
END:VCALENDAR
