BEGIN:VCALENDAR
VERSION:2.0
PRODID:-//fishsonoma.org//NONSGML kigkonsult.se iCalcreator 2.30.10//
CALSCALE:GREGORIAN
METHOD:PUBLISH
UID:3a2d06b3-c45f-489c-92cf-b96b20009ac3
X-WR-CALDESC:Redwood Empire Food Bank distribution
X-WR-RELCALID:a6c630168c7499a913c78dccf7b2c83e
X-WR-TIMEZONE:America/Los_Angeles
BEGIN:VTIMEZONE
TZID:America/Los_Angeles
BEGIN:STANDARD
TZNAME:PST
DTSTART:20271107T020000
TZOFFSETFROM:-0700
TZOFFSETTO:-0800
RDATE:20281105T020000
END:STANDARD
BEGIN:DAYLIGHT
TZNAME:PDT
DTSTART:20280312T020000
TZOFFSETFROM:-0800
TZOFFSETTO:-0700
RDATE:20290311T020000
END:DAYLIGHT
END:VTIMEZONE
BEGIN:VEVENT
UID:65a7f6d5-390a-4cbb-b09b-1334298ab7ca
DTSTAMP:20260424T153632Z
DESCRIPTION:Redwood Empire Food Bank distribution
DTSTART;TZID=America/Los_Angeles:20280314T083000
DTEND;TZID=America/Los_Angeles:20280314T093000
LOCATION:601 Agua Caliente Road W\, Sonoma\, CA 95476 US
SUMMARY:REFB at St. Leo's
END:VEVENT
END:VCALENDAR
