BEGIN:VCALENDAR
VERSION:2.0
PRODID:-//fishsonoma.org//NONSGML kigkonsult.se iCalcreator 2.30.10//
CALSCALE:GREGORIAN
METHOD:PUBLISH
UID:ff509bd5-6306-48e6-b39e-f74a73030533
X-WR-CALDESC:Redwood Empire Food Bank distribution at St. Patrick's Church 
 in Kenwood.
X-WR-RELCALID:9b3fd4fcfb0cf917219279ef40efc462
X-WR-TIMEZONE:America/Los_Angeles
BEGIN:VTIMEZONE
TZID:America/Los_Angeles
BEGIN:STANDARD
TZNAME:PST
DTSTART:20271107T020000
TZOFFSETFROM:-0700
TZOFFSETTO:-0800
RDATE:20281105T020000
END:STANDARD
BEGIN:DAYLIGHT
TZNAME:PDT
DTSTART:20270314T020000
TZOFFSETFROM:-0800
TZOFFSETTO:-0700
RDATE:20280312T020000
RDATE:20290311T020000
END:DAYLIGHT
END:VTIMEZONE
BEGIN:VEVENT
UID:9c23c74c-3bec-4aa7-a271-65c4f4627972
DTSTAMP:20260424T153916Z
DESCRIPTION:Redwood Empire Food Bank distribution at St. Patrick's Church i
 n Kenwood.
DTSTART;TZID=America/Los_Angeles:20280313T170000
DTEND;TZID=America/Los_Angeles:20280313T180000
LOCATION:9000 Sonoma Highway\, Kenwood\, CA 95452 US
SUMMARY:REFB in Kenwood
END:VEVENT
END:VCALENDAR
