BEGIN:VCALENDAR
VERSION:2.0
PRODID:-//fishsonoma.org//NONSGML kigkonsult.se iCalcreator 2.30.10//
CALSCALE:GREGORIAN
METHOD:PUBLISH
UID:cdd9782d-58f4-4075-8362-754416c93ef7
X-WR-CALDESC:Redwood Empire Food Bank Distribution
X-WR-RELCALID:1e8c190f03f29f503702348c12bde185
X-WR-TIMEZONE:America/Los_Angeles
BEGIN:VTIMEZONE
TZID:America/Los_Angeles
BEGIN:STANDARD
TZNAME:PST
DTSTART:20271107T020000
TZOFFSETFROM:-0700
TZOFFSETTO:-0800
RDATE:20281105T020000
END:STANDARD
BEGIN:DAYLIGHT
TZNAME:PDT
DTSTART:20270314T020000
TZOFFSETFROM:-0800
TZOFFSETTO:-0700
RDATE:20280312T020000
RDATE:20290311T020000
END:DAYLIGHT
END:VTIMEZONE
BEGIN:VEVENT
UID:25918cef-411f-4344-a574-280d40e99688
DTSTAMP:20260424T154502Z
DESCRIPTION:Redwood Empire Food Bank Distribution
DTSTART;TZID=America/Los_Angeles:20280307T130000
DTEND;TZID=America/Los_Angeles:20280307T133000
LOCATION:191 W. Verano Ave.\, Sonoma\, AL 95476 US
SUMMARY:REFB at FAHA Manor Apartments
END:VEVENT
END:VCALENDAR
