BEGIN:VCALENDAR
VERSION:2.0
PRODID:-//fishsonoma.org//NONSGML kigkonsult.se iCalcreator 2.30.10//
CALSCALE:GREGORIAN
METHOD:PUBLISH
UID:2f464b2c-863d-4636-b1c7-34420e4f7a8c
X-WR-CALDESC:Redwood Empire Food Bank Distribution at Seven Flags Mobile Ho
 me Park
X-WR-RELCALID:3d493823e079b16b6f9900d6b24fe5ce
X-WR-TIMEZONE:America/Los_Angeles
BEGIN:VTIMEZONE
TZID:America/Los_Angeles
BEGIN:STANDARD
TZNAME:PST
DTSTART:20271107T020000
TZOFFSETFROM:-0700
TZOFFSETTO:-0800
RDATE:20281105T020000
END:STANDARD
BEGIN:DAYLIGHT
TZNAME:PDT
DTSTART:20270314T020000
TZOFFSETFROM:-0800
TZOFFSETTO:-0700
RDATE:20280312T020000
RDATE:20290311T020000
END:DAYLIGHT
END:VTIMEZONE
BEGIN:VEVENT
UID:52a2e93a-efc4-4e40-a3a1-04de03f5a46b
DTSTAMP:20260424T135918Z
DESCRIPTION:Redwood Empire Food Bank Distribution at Seven Flags Mobile Hom
 e Park
DTSTART;TZID=America/Los_Angeles:20280222T130000
DTEND;TZID=America/Los_Angeles:20280222T140000
LOCATION:1400 Watmaugh Road\, Sonoma\, CA 95476 US
SUMMARY:REFB at Seven Flags Mobile Park
END:VEVENT
END:VCALENDAR
