BEGIN:VCALENDAR
VERSION:2.0
PRODID:-//fishsonoma.org//NONSGML kigkonsult.se iCalcreator 2.30.10//
CALSCALE:GREGORIAN
METHOD:PUBLISH
UID:a7adaa51-c73e-433d-8a92-47ab28ff6be6
X-WR-CALDESC:Council on Aging provides 'Community Table' lunch and conversa
 tion for age 60+. Please see link for menus and details on how to register
 .
X-WR-RELCALID:45c8b3ae4e308c087807881b33e03ef2
X-WR-TIMEZONE:America/Los_Angeles
BEGIN:VTIMEZONE
TZID:America/Los_Angeles
BEGIN:STANDARD
TZNAME:PST
DTSTART:20271107T020000
TZOFFSETFROM:-0700
TZOFFSETTO:-0800
RDATE:20281105T020000
END:STANDARD
BEGIN:DAYLIGHT
TZNAME:PDT
DTSTART:20270314T020000
TZOFFSETFROM:-0800
TZOFFSETTO:-0700
RDATE:20280312T020000
RDATE:20290311T020000
END:DAYLIGHT
END:VTIMEZONE
BEGIN:VEVENT
UID:3be28e16-b276-46e6-b7d2-fb51cee93d22
DTSTAMP:20260424T140638Z
DESCRIPTION:Council on Aging provides 'Community Table' lunch and conversat
 ion for age 60+. Please see link for menus and details on how to register.
DTSTART;TZID=America/Los_Angeles:20280208T120000
DTEND;TZID=America/Los_Angeles:20280208T130000
LOCATION:18800 Beatrice Dr.\, Sonoma\, CA 95476 US
SUMMARY:Community Lunch at Oakridge
END:VEVENT
END:VCALENDAR
