BEGIN:VCALENDAR
VERSION:2.0
PRODID:-//fishsonoma.org//NONSGML kigkonsult.se iCalcreator 2.30.10//
CALSCALE:GREGORIAN
METHOD:PUBLISH
UID:ec85172c-f7fe-40c1-8f3f-2166cfc095c6
X-WR-CALDESC:For age 60+. Pick up packs of 5 frozen meals with fresh fruits
  and milk at Vintage House on Mondays between 11 a.m. and noon. To enroll 
 contact Council on Aging at 707-525-0143.
X-WR-RELCALID:bfa595f17bf3fc21df8afc7f15fcffbb
X-WR-TIMEZONE:America/Los_Angeles
BEGIN:VTIMEZONE
TZID:America/Los_Angeles
BEGIN:STANDARD
TZNAME:PST
DTSTART:20271107T020000
TZOFFSETFROM:-0700
TZOFFSETTO:-0800
RDATE:20281105T020000
END:STANDARD
BEGIN:DAYLIGHT
TZNAME:PDT
DTSTART:20270314T020000
TZOFFSETFROM:-0800
TZOFFSETTO:-0700
RDATE:20280312T020000
RDATE:20290311T020000
END:DAYLIGHT
END:VTIMEZONE
BEGIN:VEVENT
UID:2d5c8502-0307-4342-9db1-9f94d66e3b76
DTSTAMP:20260422T103107Z
DESCRIPTION:For age 60+. Pick up packs of 5 frozen meals with fresh fruits 
 and milk at Vintage House on Mondays between 11 a.m. and noon. To enroll c
 ontact Council on Aging at 707-525-0143.
DTSTART;TZID=America/Los_Angeles:20271129T110000
DTEND;TZID=America/Los_Angeles:20271129T120000
LOCATION:264 First St. East\, Sonoma\, CA 95476 US
SUMMARY:Council on Aging 5 meal packs
END:VEVENT
END:VCALENDAR
