BEGIN:VCALENDAR
VERSION:2.0
PRODID:-//fishsonoma.org//NONSGML kigkonsult.se iCalcreator 2.30.10//
CALSCALE:GREGORIAN
METHOD:PUBLISH
UID:62a2b92d-9b0a-4caa-b924-e5f8a077679d
X-WR-CALDESC:Seventh Day Adventist Church food pantry. Call ahead at 707-99
 6-2008 for Thursday pickup\,
X-WR-RELCALID:1eca1d85f8eba4f1853c7ef3e54b8ec7
X-WR-TIMEZONE:America/Los_Angeles
BEGIN:VTIMEZONE
TZID:America/Los_Angeles
BEGIN:STANDARD
TZNAME:PST
DTSTART:20271107T020000
TZOFFSETFROM:-0700
TZOFFSETTO:-0800
RDATE:20281105T020000
END:STANDARD
BEGIN:DAYLIGHT
TZNAME:PDT
DTSTART:20270314T020000
TZOFFSETFROM:-0800
TZOFFSETTO:-0700
RDATE:20280312T020000
RDATE:20290311T020000
END:DAYLIGHT
END:VTIMEZONE
BEGIN:VEVENT
UID:f691346b-aea6-49d3-9157-bdd7a83c7cc7
DTSTAMP:20260422T102906Z
DESCRIPTION:Seventh Day Adventist Church food pantry. Call ahead at 707-996
 -2008 for Thursday pickup\,
DTSTART;TZID=America/Los_Angeles:20271118T120000
DTEND;TZID=America/Los_Angeles:20271118T130000
LOCATION:20575 Broadway\, Sonoma\, CA 95476 US
SUMMARY:SDA Food Pantry
END:VEVENT
END:VCALENDAR
