BEGIN:VCALENDAR
VERSION:2.0
PRODID:-//fishsonoma.org//NONSGML kigkonsult.se iCalcreator 2.30.10//
CALSCALE:GREGORIAN
METHOD:PUBLISH
UID:a088b492-0ef4-40ee-bdb7-fa9fd8bb2e49
X-WR-CALDESC:Redwood Empire Food Bank Distribution
X-WR-RELCALID:ed798aa5b58fda0b9739c9b88bcba980
X-WR-TIMEZONE:America/Los_Angeles
BEGIN:VTIMEZONE
TZID:America/Los_Angeles
BEGIN:STANDARD
TZNAME:PST
DTSTART:20271107T020000
TZOFFSETFROM:-0700
TZOFFSETTO:-0800
RDATE:20281105T020000
END:STANDARD
BEGIN:DAYLIGHT
TZNAME:PDT
DTSTART:20270314T020000
TZOFFSETFROM:-0800
TZOFFSETTO:-0700
RDATE:20280312T020000
RDATE:20290311T020000
END:DAYLIGHT
END:VTIMEZONE
BEGIN:VEVENT
UID:daa65278-63c1-493a-8e07-8dd4e5875aeb
DTSTAMP:20260422T103318Z
DESCRIPTION:Redwood Empire Food Bank Distribution
DTSTART;TZID=America/Los_Angeles:20271102T130000
DTEND;TZID=America/Los_Angeles:20271102T133000
LOCATION:191 W. Verano Ave.\, Sonoma\, AL 95476 US
SUMMARY:REFB at FAHA Manor Apartments
END:VEVENT
END:VCALENDAR
