BEGIN:VCALENDAR
VERSION:2.0
PRODID:-//fishsonoma.org//NONSGML kigkonsult.se iCalcreator 2.30.10//
CALSCALE:GREGORIAN
METHOD:PUBLISH
UID:d6745514-9ee9-49e9-803a-e654d6fb1f20
X-WR-CALDESC:Redwood Empire Food Bank distribution at Sonoma Valley Communi
 ty Health Center
X-WR-RELCALID:33bfc574e8efe7d720d292c5892b43f8
X-WR-TIMEZONE:America/Los_Angeles
BEGIN:VTIMEZONE
TZID:America/Los_Angeles
BEGIN:STANDARD
TZNAME:PST
DTSTART:20261101T020000
TZOFFSETFROM:-0700
TZOFFSETTO:-0800
RDATE:20271107T020000
RDATE:20281105T020000
END:STANDARD
BEGIN:DAYLIGHT
TZNAME:PDT
DTSTART:20270314T020000
TZOFFSETFROM:-0800
TZOFFSETTO:-0700
RDATE:20280312T020000
RDATE:20290311T020000
END:DAYLIGHT
END:VTIMEZONE
BEGIN:VEVENT
UID:1da1a83e-3509-498d-b9db-042bb5b0294a
DTSTAMP:20260422T085311Z
DESCRIPTION:Redwood Empire Food Bank distribution at Sonoma Valley Communit
 y Health Center
DTSTART;TZID=America/Los_Angeles:20271015T083000
DTEND;TZID=America/Los_Angeles:20271015T093000
LOCATION:19270 Sonoma Highway\, Sonoma\, CA 95476 US
SUMMARY:REFB at Health Center
END:VEVENT
END:VCALENDAR
