BEGIN:VCALENDAR
VERSION:2.0
PRODID:-//fishsonoma.org//NONSGML kigkonsult.se iCalcreator 2.30.10//
CALSCALE:GREGORIAN
METHOD:PUBLISH
UID:7cbc9e2c-38cd-446c-a116-0464457b2cca
X-WR-CALDESC:3 days of groceries available weekdays from 1 p.m. - 2:30 p.m.
   You don't need to sign up in advance\, but the schedule is subject to ch
 ange\; you can check by calling the office at (707) 935-7314.
X-WR-RELCALID:db5ab8f0ea83def708e71d05a44febce
X-WR-TIMEZONE:America/Los_Angeles
BEGIN:VTIMEZONE
TZID:America/Los_Angeles
BEGIN:STANDARD
TZNAME:PST
DTSTART:20261101T020000
TZOFFSETFROM:-0700
TZOFFSETTO:-0800
RDATE:20271107T020000
RDATE:20281105T020000
END:STANDARD
BEGIN:DAYLIGHT
TZNAME:PDT
DTSTART:20270314T020000
TZOFFSETFROM:-0800
TZOFFSETTO:-0700
RDATE:20280312T020000
RDATE:20290311T020000
END:DAYLIGHT
END:VTIMEZONE
BEGIN:VEVENT
UID:719025af-6db1-467a-8b96-43a502e790f5
DTSTAMP:20260422T091325Z
DESCRIPTION:3 days of groceries available weekdays from 1 p.m. - 2:30 p.m. 
  You don't need to sign up in advance\, but the schedule is subject to cha
 nge\; you can check by calling the office at (707) 935-7314.
DTSTART;TZID=America/Los_Angeles:20271001T130000
DTEND;TZID=America/Los_Angeles:20271001T143000
LOCATION:469 3rd St West\, Sonoma\, AL 95476 US
SUMMARY:St Francis Food Pantry
END:VEVENT
END:VCALENDAR
