BEGIN:VCALENDAR
VERSION:2.0
PRODID:-//fishsonoma.org//NONSGML kigkonsult.se iCalcreator 2.30.10//
CALSCALE:GREGORIAN
METHOD:PUBLISH
UID:3c6eb80d-fbed-4679-a626-bba56cf3f087
X-WR-CALDESC:Redwood Empire Food Bank distribution
X-WR-RELCALID:244be71823987ae3d3d7d20308ee4686
X-WR-TIMEZONE:America/Los_Angeles
BEGIN:VTIMEZONE
TZID:America/Los_Angeles
BEGIN:STANDARD
TZNAME:PST
DTSTART:20261101T020000
TZOFFSETFROM:-0700
TZOFFSETTO:-0800
RDATE:20271107T020000
RDATE:20281105T020000
END:STANDARD
BEGIN:DAYLIGHT
TZNAME:PDT
DTSTART:20270314T020000
TZOFFSETFROM:-0800
TZOFFSETTO:-0700
RDATE:20280312T020000
END:DAYLIGHT
END:VTIMEZONE
BEGIN:VEVENT
UID:4d5e077a-f2e1-4d5c-9333-2da474230ece
DTSTAMP:20260422T020410Z
DESCRIPTION:Redwood Empire Food Bank distribution
DTSTART;TZID=America/Los_Angeles:20270727T083000
DTEND;TZID=America/Los_Angeles:20270727T093000
LOCATION:601 Agua Caliente Road W\, Sonoma\, CA 95476 US
SUMMARY:REFB at St. Leo's
END:VEVENT
END:VCALENDAR
