BEGIN:VCALENDAR
VERSION:2.0
PRODID:-//fishsonoma.org//NONSGML kigkonsult.se iCalcreator 2.30.10//
CALSCALE:GREGORIAN
METHOD:PUBLISH
UID:0d19a671-e96b-413d-9cb5-7b830649bb23
X-WR-CALDESC:Redwood Empire Food Bank Distribution
X-WR-RELCALID:1ae40e94ec8e68cd6fd53e1e9526bdb1
X-WR-TIMEZONE:America/Los_Angeles
BEGIN:VTIMEZONE
TZID:America/Los_Angeles
BEGIN:STANDARD
TZNAME:PST
DTSTART:20261101T020000
TZOFFSETFROM:-0700
TZOFFSETTO:-0800
RDATE:20271107T020000
RDATE:20281105T020000
END:STANDARD
BEGIN:DAYLIGHT
TZNAME:PDT
DTSTART:20270314T020000
TZOFFSETFROM:-0800
TZOFFSETTO:-0700
RDATE:20280312T020000
END:DAYLIGHT
END:VTIMEZONE
BEGIN:VEVENT
UID:dd4d0633-65a0-470d-a82d-08a490bce5de
DTSTAMP:20260422T074651Z
DESCRIPTION:Redwood Empire Food Bank Distribution
DTSTART;TZID=America/Los_Angeles:20270706T130000
DTEND;TZID=America/Los_Angeles:20270706T133000
LOCATION:191 W. Verano Ave.\, Sonoma\, AL 95476 US
SUMMARY:REFB at FAHA Manor Apartments
END:VEVENT
END:VCALENDAR
