BEGIN:VCALENDAR
VERSION:2.0
PRODID:-//fishsonoma.org//NONSGML kigkonsult.se iCalcreator 2.30.10//
CALSCALE:GREGORIAN
METHOD:PUBLISH
UID:d50d121d-b1db-4461-855a-1f857a25c1e5
X-WR-CALDESC:Seventh Day Adventist Church food pantry. Call ahead at 707-99
 6-2008 for Thursday pickup\,
X-WR-RELCALID:82494a9bfd50bb3f4b8da817aaa5e238
X-WR-TIMEZONE:America/Los_Angeles
BEGIN:VTIMEZONE
TZID:America/Los_Angeles
BEGIN:STANDARD
TZNAME:PST
DTSTART:20261101T020000
TZOFFSETFROM:-0700
TZOFFSETTO:-0800
RDATE:20271107T020000
RDATE:20281105T020000
END:STANDARD
BEGIN:DAYLIGHT
TZNAME:PDT
DTSTART:20270314T020000
TZOFFSETFROM:-0800
TZOFFSETTO:-0700
RDATE:20280312T020000
END:DAYLIGHT
END:VTIMEZONE
BEGIN:VEVENT
UID:4e1606a9-5e37-4bdf-b103-c1593a1eaed2
DTSTAMP:20260422T085125Z
DESCRIPTION:Seventh Day Adventist Church food pantry. Call ahead at 707-996
 -2008 for Thursday pickup\,
DTSTART;TZID=America/Los_Angeles:20270603T120000
DTEND;TZID=America/Los_Angeles:20270603T130000
LOCATION:20575 Broadway\, Sonoma\, CA 95476 US
SUMMARY:SDA Food Pantry
END:VEVENT
END:VCALENDAR
