BEGIN:VCALENDAR
VERSION:2.0
PRODID:-//fishsonoma.org//NONSGML kigkonsult.se iCalcreator 2.30.10//
CALSCALE:GREGORIAN
METHOD:PUBLISH
UID:7fb8340a-88d2-4e52-8332-fbb8d26cc3ca
X-WR-CALDESC:Redwood Empire Food Bank Distribution
X-WR-RELCALID:3abd1b89328106d884fd11af42b716a9
X-WR-TIMEZONE:America/Los_Angeles
BEGIN:VTIMEZONE
TZID:America/Los_Angeles
BEGIN:STANDARD
TZNAME:PST
DTSTART:20261101T020000
TZOFFSETFROM:-0700
TZOFFSETTO:-0800
RDATE:20271107T020000
RDATE:20281105T020000
END:STANDARD
BEGIN:DAYLIGHT
TZNAME:PDT
DTSTART:20270314T020000
TZOFFSETFROM:-0800
TZOFFSETTO:-0700
RDATE:20280312T020000
END:DAYLIGHT
END:VTIMEZONE
BEGIN:VEVENT
UID:ce327b68-53d9-4f5b-a0cb-fc034b3eb8ee
DTSTAMP:20260422T021252Z
DESCRIPTION:Redwood Empire Food Bank Distribution
DTSTART;TZID=America/Los_Angeles:20270601T130000
DTEND;TZID=America/Los_Angeles:20270601T133000
LOCATION:191 W. Verano Ave.\, Sonoma\, AL 95476 US
SUMMARY:REFB at FAHA Manor Apartments
END:VEVENT
END:VCALENDAR
